BEGIN:VCALENDAR
VERSION:2.0
PRODID:spatie/icalendar-generator
DESCRIPTION:Events from Stockton Jr Jackets
X-WR-CALDESC:Events from Stockton Jr Jackets
REFRESH-INTERVAL;VALUE=DURATION:PT1440M
X-PUBLISHED-TTL:PT1440M
BEGIN:VTIMEZONE
TZID:Etc/GMT+0
BEGIN:STANDARD
DTSTART:20240217T193000Z
TZOFFSETFROM:+0000
TZOFFSETTO:+0000
END:STANDARD
END:VTIMEZONE
BEGIN:VTIMEZONE
TZID:UTC
BEGIN:STANDARD
DTSTART:20250725T101336Z
TZOFFSETFROM:+0000
TZOFFSETTO:+0000
END:STANDARD
END:VTIMEZONE
BEGIN:VEVENT
UID:1-1
DTSTAMP:20260421T101336Z
SUMMARY:Demo: Florence Price: Symphony No. 3 in c minor
LOCATION:
ORGANIZER;CN=mitch:MAILTO:mitch@devm.tech
DTSTART;TZID=Etc/GMT+0:20241113T193000
DTEND;TZID=Etc/GMT+0:20241113T210000
X-ALT-DESC;FMTTYPE=TEXT/HTML:<p>Florence Price's Symphony No.3 was first pe
 rformed on November 6th\, 1940. It was Ms. Price's third symphony\, follow
 ing her lost Symphony No. 2</p>\n
CATEGORIES:General
URL;VALUE=URI:https://stocktonjrjackets.com/mc-events/demo-florence-price-s
 ymphony-no-3-in-c-minor/?mc_id=1
END:VEVENT
END:VCALENDAR